Workbook

Sheet روکش
C2: آرم دانشگاه | G2: دانشگاه علوم پزشکی و خدمات بهداشتی درمانی ...
C3: مديريت برنامه ريزي منابع مالي، بودجه و پایش عملکرد | G3: نام واحد :
C4: تفاهم نامه عملياتي سال1404
C5: روکش : مجموع منابع و مصارف
I6: « ارقام به ميليون ريال »
C7: خلاصه اعتبارات و هزینه ها
C8: هزینه ای | I8: تملک دارائیهای سرمایه ای | N8: جمع كل
C9: عمومي( قانون بودجه ) | D9: درآمد اختصاصی تعهدی ( کار کرد) | E9: ردیف های متمرکز | F9: سایر منابع از سایر سازمانها و .. | G9: سایر منابع به شرط وصول | H9: جمع
I10: عمومی | J10: درآمد اختصاصی | K10: ردیف متمرکز | L10: سایر منابع | M10: جمع
C11: =F16+F18 -> 0 | D11: =F17+F19 -> 0 | E11: =F20 -> 0 | F11: =F21 -> 0 | G11: =F22 -> 0 | H11: =G11+F11+E11+D11+C11 -> 0 | I11: =F37 -> 0 | J11: =F38 -> 0 | K11: =F39 -> 0 | L11: =F40 -> 0 | M11: =L11+J11+I11+K11 -> 0 | N11: =M11+H11 -> 0
C13: الف - هزینه ای
C14: عنوان برنامه | E14: منبع | F14: منابع | H14: مصارف
H15: حقوق و مزاياي مستمر كاركنان | J15: ساير هزينه هاي پرسنلي | L15: ساير هزينه ها | N15: جمع كل
E16: عمومي | F16: ='حقوق و مزایای مستمر'!H23+'سایر پرسنلی'!H33+'سایر هزینه ها'!J39 -> 0 | H16: ='حقوق و مزایای مستمر'!H23 -> 0 | J16: ='سایر پرسنلی'!H33 -> 0 | L16: ='سایر هزینه ها'!J39 -> 0 | N16: =L16+J16+H16 -> 0
E17: اختصاصي | F17: ='حقوق و مزایای مستمر'!I23+'سایر پرسنلی'!I33+'سایر هزینه ها'!K39 -> 0 | H17: ='حقوق و مزایای مستمر'!I23 -> 0 | J17: ='سایر پرسنلی'!I33 -> 0 | L17: ='سایر هزینه ها'!K39 -> 0 | N17: =L17+J17+H17 -> 0
E18: عمومي | F18: ='حقوق و مزایای مستمر'!J23+'سایر پرسنلی'!J33+'سایر هزینه ها'!L39 -> 0 | H18: ='حقوق و مزایای مستمر'!J23 -> 0 | J18: ='سایر پرسنلی'!J33 -> 0 | L18: ='سایر هزینه ها'!L39 -> 0 | N18: =L18+J18+H18 -> 0
E19: اختصاصي | F19: ='حقوق و مزایای مستمر'!K23+'سایر پرسنلی'!K33+'سایر هزینه ها'!M39 -> 0 | H19: ='حقوق و مزایای مستمر'!K23 -> 0 | J19: ='سایر پرسنلی'!K33 -> 0 | L19: ='سایر هزینه ها'!M39 -> 0 | N19: =L19+J19+H19 -> 0
C20: ردیف های متمرکز | F20: ='سایر پرسنلی'!L33+'سایر هزینه ها'!N39 -> 0 | J20: ='سایر پرسنلی'!L33 -> 0 | L20: ='سایر هزینه ها'!N39 -> 0 | N20: =L20+J20+H20 -> 0
C21: سایر منابع | F21: ='سایر پرسنلی'!M33+'سایر هزینه ها'!O39 -> 0 | J21: ='سایر پرسنلی'!M33 -> 0 | L21: ='سایر هزینه ها'!O39 -> 0 | N21: =L21+J21+H21 -> 0
C22: سایر منابع به شرط وصول | F22: ='سایر پرسنلی'!N33+'سایر هزینه ها'!P39 -> 0 | J22: ='سایر پرسنلی'!N33 -> 0 | L22: ='سایر هزینه ها'!P39 -> 0 | N22: =L22+J22+H22 -> 0
C23: جمع | F23: =SUM(F16:F22) -> 0 | H23: =H22+H21+H20+H19+H18+H17+H16 -> 0 | J23: =J22+J21+J20+J19+J18+J17+J16 -> 0 | L23: =L22+L20+L17+L16 -> 0 | N23: =L23+J23+H23 -> 0
C25: ب- تملک دارائی / افزایش دارائیهای ثابت
C26: عنوان پروژه | E26: منابع اعتباري | F26: منابع | H26: مصارف | L26: ج-تراز ابتدای سال 1404
C27: تعمیرات اساسی | E27: عمومي | F27: ='تملک دارایی'!G13 -> 0 | H27: =F27 -> 0 | L27: مانده نقد ومطالبات منتقلله از سال قبل | M27: تعهدات منتقله از سال قبل | N27: تراز ابتدای سال 1404
E28: اختصاصي | F28: ='تملک دارایی'!H13 -> 0 | H28: =F28 -> 0
E29: ردیف متمرکز | F29: ='تملک دارایی'!I13 -> 0 | H29: =F29 -> 0
E30: ساير منابع | F30: ='تملک دارایی'!J13 -> 0 | H30: =F30 -> 0
C31: جمع تعمیرات اساسی | F31: =F30+F29+F28+F27 -> 0 | H31: =H30+H29+H28+H27 -> 0
C32: تجهیزات و ماشین آلات آموزشی / پژوهشی | E32: عمومي | F32: ='تملک دارایی'!G18 -> 0 | H32: =F32 -> 0 | L32: ='پیوست -جزئیات تراز'!F9 -> 0 | M32: ='پیوست -جزئیات تراز'!I9 -> 0 | N32: =M32-L32 -> 0
E33: اختصاصي | F33: ='تملک دارایی'!H18 -> 0 | H33: =F33 -> 0
E34: ردیف متمرکز | F34: ='تملک دارایی'!I18 -> 0 | H34: =F34 -> 0
E35: ساير منابع | F35: ='تملک دارایی'!J18 -> 0 | H35: =F35 -> 0
C36: جمع تجهیزات آموزشی / پژوهشی | F36: =F35+F34+F33+F32 -> 0 | H36: =H35+H34+H33+H32 -> 0
C37: جمع كل تملك دارائيهاي سرمايه اي | E37: عمومي | F37: =F32+F27 -> 0 | H37: =H32+H27 -> 0
E38: اختصاصي | F38: =F28+F33 -> 0 | H38: =H28+H33 -> 0
E39: ردیف متمرکز | F39: =F29+F34 -> 0 | H39: =H29+H34 -> 0
E40: ساير منابع | F40: =F35+F30 -> 0 | H40: =H35+H30 -> 0
E41: كل | F41: =F40+F39+F38+F37 -> 0 | H41: =H40+H39+H38+H37 -> 0
C43: معاون اداری و مالی دانشکده / مرکز تحقیقاتی | I43: رئیس دانشکده / مرکز تحقیقاتی
C44: نام و نام خانوادگی | I44: نام و نام خانوادگی
C45: مدیر برنامه ریزی منابع مالی ، بودجه وپایش عملکرد | F45: مدیر امور مالی دانشگاه | J45: معاون توسعه مدیریت و منابع دانشگاه
C46: نام و نام خانوادگی | F46: نام و نام خانوادگی | J46: نام و نام خانوادگی

Sheet حقوق و مزایای مستمر
B2: آرم دانشگاه | E2: نام دانشگاه :
B3: مديريت برنامه ريزي منابع مالي، بودجه و پایش عملکرد | E3: نام واحد :
B4: تفاهم نامه عملياتي سال 1404
B5: فرم شماره 1: حقوق و مزایای مستمر
J6: ارقام به میلیون ریال
B7: ردیف | C7: عنوان | D7: هزینه های عملیاتی | E7: عملکرد سال 1403 | F7: تعداد كاركنان | G7: مصارف | H7: محل تامین اعتبار | M7: درصد رشد هزینه های سال 1404 نسبت به عملکرد سال 1403
G8: کل مورد نیاز | H8: برنامه .... | J8: برنامه ... | L8: جمع کل
H9: عمومی | I9: اختصاصی | J9: عمومی | K9: اختصاصی
B10: 1 | C10: هیئت علمی | D10: پرداخت حقوق و مزاياي كاركنان رسمي و پيماني, قراردادی هيئت علمي ( با بیمه 2% سهم کارفرما خدمات درمانی و بیمه تامین اجتماعی ) | L10: =K10+J10+I10+H10 -> 0 | M10: =(L10-E10)*100/E10 -> #DIV/0!
B11: 2 | D11: پرداخت عيدي كاركنان رسمي و پيماني قراردادی و ز هيئت علمي | L11: =K11+J11+I11+H11 -> 0 | M11: =(L11-E11)*100/E11 -> #DIV/0!
B12: 3 | D12: پرداخت حقوق و مزاياي كاركنان طرحی و ضریب کا هيئت علمي( با بیمه تامین اجتماعی ) | L12: =K12+J12+I12+H12 -> 0 | M12: =(L12-E12)*100/E12 -> #DIV/0!
B13: 4 | D13: پرداخت عيدي كاركنان طرحی و ضریب کا هيئت علمي | L13: =K13+J13+I13+H13 -> 0 | M13: =(L13-E13)*100/E13 -> #DIV/0!
B14: جمع حقوق ومزایای کارکنان هیئت علمی | E14: =SUM(E10:E13) -> 0 | F14: =F12+F10 -> 0 | G14: =SUM(G10:G13) -> 0 | H14: =SUM(H10:H13) -> 0 | I14: =SUM(I10:I13) -> 0 | J14: =SUM(J10:J13) -> 0 | K14: =SUM(K10:K13) -> 0 | L14: =SUM(L10:L13) -> 0 | M14: =(L14-E14)*100/E14 -> #DIV/0!
B15: 5 | C15: غیر هیئت علمی | D15: پرداخت حقوق و مزاياي كاركنان رسمي، رسمي بيمه اي و پيماني غير هيئت علمي ( با 2% بیمه خدمات درمانی سهم کارفرما برای کارکنان رسمی و بیمه تامین اجتماعی کارکنان پیمانی ) | L15: =K15+J15+I15+H15 -> 0 | M15: =(L15-E15)*100/E15 -> #DIV/0!
B16: 6 | D16: پرداخت عيدي كاركنان رسمي، رسمي بيمه اي و پيماني غير هيئت علمي | L16: =K16+J16+I16+H16 -> 0 | M16: =(L16-E16)*100/E16 -> #DIV/0!
B17: 7 | D17: پرداخت حقوق و مزاياي كاركنان طرحي ، خريد خدمت و ضريب كا ( با بیمه تامین اجتماعی ) | L17: =K17+J17+I17+H17 -> 0 | M17: =(L17-E17)*100/E17 -> #DIV/0!
B18: 8 | D18: پرداخت عيدي كاركنان طرحي ، خريد خدمت و ضريب كا | L18: =K18+J18+I18+H18 -> 0 | M18: =(L18-E18)*100/E18 -> #DIV/0!
B19: 9 | D19: پرداخت حقوق و مزاياي كاركنان قراردادي ( با بیمه تامین اجتماعی ) | L19: =K19+J19+I19+H19 -> 0 | M19: =(L19-E19)*100/E19 -> #DIV/0!
B20: 10 | D20: پرداخت عيدي كاركنان قراردادي | L20: =K20+J20+I20+H20 -> 0 | M20: =(L20-E20)*100/E20 -> #DIV/0!
B21: 11 | D21: پرداخت حقوق و مزاياي كاركنان شرکتی | L21: =K21+J21+I21+H21 -> 0 | M21: =(L21-E21)*100/E21 -> #DIV/0!
B22: جمع حقوق و مزایای کارکنان غیر هیئت علمی | E22: =SUM(E15:E21) -> 0 | F22: =F21+F19+F17+F15 -> 0 | G22: =SUM(G15:G21) -> 0 | H22: =SUM(H15:H21) -> 0 | I22: =SUM(I15:I21) -> 0 | J22: =SUM(J15:J21) -> 0 | K22: =SUM(K15:K21) -> 0 | L22: =SUM(L15:L21) -> 0 | M22: =(L22-E22)*100/E22 -> #DIV/0!
B23: جمع کل حقوق و مزایای مستمر کارکنان هیئت علمی و غیر هیئت علمی | E23: =E22+E14 -> 0 | F23: =F22+F14 -> 0 | G23: =G22+G14 -> 0 | H23: =H22+H14 -> 0 | I23: =I22+I14 -> 0 | J23: =J22+J14 -> 0 | K23: =K22+K14 -> 0 | L23: =L22+L14 -> 0 | M23: =(L23-E23)*100/E23 -> #DIV/0!
B25: معاون اداری و مالی دانشکده / مرکز تحقیقاتی | G25: رئیس دانشکده / مرکز تحقیقاتی
B26: نام و نام خانوادگی | G26: نام و نام خانوادگی
B27: مدیر برنامه ریزی منابع مالی ، بودجه وپایش عملکرد | E27: مدیر امور مالی دانشگاه | I27: معاون توسعه مدیریت و منابع دانشگاه
B28: نام و نام خانوادگی | E28: نام و نام خانوادگی | I28: نام و نام خانوادگی

Sheet سایر پرسنلی
B2: آرم دانشگاه | G2: نام دانشگاه :
B3: مديريت برنامه ريزي منابع مالي، بودجه و پایش عملکرد | G3: نام واحد :
B4: تفاهم نامه عملياتي سال 1404
B5: فرم شماره 2: سایر هزینه های پرسنلی
J7: « ارقام به ميليون ريال »
B8: ردیف | C8: هزینه های عملیاتی | E8: عملکرد سال 1403 | F8: تعداد كاركنان | G8: مصارف | H8: محل تامین اعتبار | P8: درصد رشد 1404 نسبت به سال 1403
G9: کل مورد نیاز | H9: برنامه .... | J9: برنامه... | L9: ردیف های متمرکز | M9: سایر منابع | N9: سایر منابع به شرط وصول | O9: جمع کل
H10: عمومی | I10: اختصاصی | J10: عمومی | K10: اختصاصی
B11: 1 | C11: محروميت از مطب / تمام وقتی | D11: كاركنان هيئت علمي | O11: =N11+L11+K11+J11+I11+H11+M11 -> 0 | P11: =(O11-E119)*100/E11 -> #DIV/0!
B12: 2 | D12: غير هيئت علمي | O12: =N12+L12+K12+J12+I12+H12+M12 -> 0 | P12: =(O12-E120)*100/E12 -> #DIV/0!
B13: 3 | C13: کمکهای رفاهی کارکنان | D13: كمك به حساب پس انداز كار كنان | O13: =N13+L13+K13+J13+I13+H13+M13 -> 0 | P13: =(O13-E121)*100/E13 -> #DIV/0!
B14: 4 | D14: كمك هزينه مسكن | O14: =N14+L14+K14+J14+I14+H14+M14 -> 0 | P14: =(O14-E122)*100/E14 -> #DIV/0!
B15: 5 | D15: كمك هزينه غذا | O15: =N15+L15+K15+J15+I15+H15+M15 -> 0 | P15: =(O15-E123)*100/E15 -> #DIV/0!
B16: 6 | D16: کمک هزینه ایاب و ذهاب | O16: =N16+L16+K16+J16+I16+H16+M16 -> 0 | P16: =(O16-E124)*100/E16 -> #DIV/0!
A17: =F17*0.5 -> 0 | B17: 7 | D17: کمک هزينه ورزشي كاركنان | O17: =N17+L17+K17+J17+I17+H17+M17 -> 0 | P17: =(O17-E125)*100/E17 -> #DIV/0!
B18: 8 | D18: کمک هزینه مهد کودک | O18: =N18+L18+K18+J18+I18+H18+M18 -> 0 | P18: =(O18-E126)*100/E18 -> #DIV/0!
B19: 9 | D19: کمک هزینه ازدواج و فوت | O19: =N19+L19+K19+J19+I19+H19+M19 -> 0 | P19: =(O19-E127)*100/E19 -> #DIV/0!
B20: 10 | D20: کمک هزینه بیمه عمر ، بیمه مکمل و هزینه درمان جانبازان | O20: =N20+L20+K20+J20+I20+H20+M20 -> 0 | P20: =(O20-E128)*100/E20 -> #DIV/0!
B21: 11 | D21: سایر کمکهای رفاهی کارکنان | O21: =N21+L21+K21+J21+I21+H21+M21 -> 0 | P21: =(O21-E129)*100/E21 -> #DIV/0!
B22: 12 | C22: اضافه کار و بیمه تامین اجتماعی اضافه کار (رسمي، پيماني، طرحي ، پیام آور و قراردادي) | O22: =N22+L22+K22+J22+I22+H22+M22 -> 0 | P22: =(O22-E130)*100/E22 -> #DIV/0!
B23: 13 | C23: آموزش ضمن خدمت | O23: =N23+L23+K23+J23+I23+H23+M23 -> 0 | P23: =(O23-E131)*100/E23 -> #DIV/0!
B24: 14 | C24: كارانه | O24: =N24+L24+K24+J24+I24+H24+M24 -> 0 | P24: =(O24-E132)*100/E24 -> #DIV/0!
B25: 15 | C25: کمک هزینه تحصیلی دانشجویان اینترن و رزیدنت | O25: =N25+L25+K25+J25+I25+H25+M25 -> 0 | P25: =(O25-E133)*100/E25 -> #DIV/0!
B26: 16 | C26: سایر پرداختی به دانشجویان | O26: =N26+L26+K26+J26+I26+H26+M26 -> 0 | P26: =(O26-E134)*100/E26 -> #DIV/0!
B27: 17 | C27: اجرت و حق الزحمه های پرداختی ( ماده 47) | O27: =N27+L27+K27+J27+I27+H27+M27 -> 0 | P27: =(O27-E135)*100/E27 -> #DIV/0!
A28: =F28*0.4 -> 0 | B28: 18 | C28: حق التدریس | O28: =N28+L28+K28+J28+I28+H28+M28 -> 0 | P28: =(O28-E136)*100/E28 -> #DIV/0!
B29: 19 | C29: پایان نامه | O29: =N29+L29+K29+J29+I29+H29+M29 -> 0 | P29: =(O29-E137)*100/E29 -> #DIV/0!
B30: 20 | C30: بازخرید مرخصی کارکنان قراردادی | O30: =N30+L30+K30+J30+I30+H30+M30 -> 0 | P30: =(O30-E138)*100/E30 -> #DIV/0!
B31: 21 | C31: باز خرید مرخصی بازنشستگان | O31: =N31+L31+K31+J31+I31+H31+M31 -> 0 | P31: =(O31-E139)*100/E31 -> #DIV/0!
B32: 22 | C32: سایر هزینه های پرسنلی | O32: =N32+L32+K32+J32+I32+H32+M32 -> 0 | P32: =(O32-E140)*100/E32 -> #DIV/0!
B33: جمع كل | E33: =SUM(E11:E32) -> 0 | F33: =SUM(F11:F32) -> 0 | G33: =SUM(G11:G32) -> 0 | H33: =SUM(H11:H32) -> 0 | I33: =SUM(I11:I32) -> 0 | J33: =SUM(J11:J32) -> 0 | K33: =SUM(K11:K32) -> 0 | L33: =SUM(L11:L32) -> 0 | ... O33: =SUM(O11:O32) -> 0 | P33: =(O33-E141)*100/E33 -> #DIV/0!
B35: معاون اداری و مالی دانشکده / مرکز تحقیقاتی | G35: رئیس دانشکده / مرکز تحقیقاتی
B36: نام و نام خانوادگی | G36: نام و نام خانوادگی
B37: مدیر برنامه ریزی منابع مالی ، بودجه وپایش عملکرد | E37: مدیر امور مالی دانشگاه | I37: معاون توسعه مدیریت و منابع دانشگاه
B38: نام و نام خانوادگی | E38: نام و نام خانوادگی | I38: نام و نام خانوادگی

Sheet سایر هزینه ها
B2: آرم دانشگاه | E2: نام دانشگاه :
B3: مديريت برنامه ريزي منابع مالي، بودجه و پایش عملکرد | E3: نام واحد :
B4: تفاهم نامه عملياتي سال 1404
B5: فرم شماره 3: سایر هزینه ها
P6: ارقام به میلیون ریال
B7: ردیف | C7: هزینه های عملیاتی | E7: عملکرد سال 1403 | F7: هدف كمي | I7: مصارف | J7: محل تامین اعتبار | R7: درصد رشد هزینه های سال 1404 نسبت به عملکرد سال 1403
J8: برنامه ... | L8: برنامه... | N8: ردیف های متمرکز | O8: سایر منابع | P8: سایر منابع به شرط وصول | Q8: جمع کل
F9: شاخص | G9: مقدار | H9: هزينه واحد | I9: کل مورد نیاز | J9: عمومی | K9: اختصاصی | L9: عمومی | M9: اختصاصی
B10: 1 | C10: قراردادهای حجمی | D10: واگذاري اموراياب و ذهاب | F10: نيمراه | J10: 0 | Q10: =P10+O10+N10+M10+L10+K10+J10 -> 0 | R10: =(Q10-E10)*100/E10 -> #DIV/0!
B11: 2 | D11: واگذاري نگهداري تاسيسات , اسانسور | F11: نفر | Q11: =P11+O11+N11+M11+L11+K11+J11 -> 0 | R11: =(Q11-E11)*100/E11 -> #DIV/0!
B12: 3 | D12: واگذاری مدیریت تعمیرات و قطعات رایانه و شبکه ها | F12: تعداد دستگاه | Q12: =P12+O12+N12+M12+L12+K12+J12 -> 0 | R12: =(Q12-E12)*100/E12 -> #DIV/0!
B13: 4 | D13: واگذاری خدمات نظافت | F13: مترمربع | Q13: =P13+O13+N13+M13+L13+K13+J13 -> 0 | R13: =(Q13-E13)*100/E13 -> #DIV/0!
B14: 5 | D14: واگذاري ساير امور بصورت قراردادي حجمي | Q14: =P14+O14+N14+M14+L14+K14+J14 -> 0 | R14: =(Q14-E14)*100/E14 -> #DIV/0!
B15: 6 | C15: انرژی | D15: هزینه آب | F15: ليتر / متر مكعب | Q15: =P15+O15+N15+M15+L15+K15+J15 -> 0 | R15: =(Q15-E15)*100/E15 -> #DIV/0!
B16: 7 | D16: هزینه برق | Q16: =P16+O16+N16+M16+L16+K16+J16 -> 0 | R16: =(Q16-E16)*100/E16 -> #DIV/0!
B17: 8 | D17: هزینه گاز | F17: متر مکعب | Q17: =P17+O17+N17+M17+L17+K17+J17 -> 0 | R17: =(Q17-E17)*100/E17 -> #DIV/0!
B18: 9 | D18: هزینه سوخت ( بنزین - نفت - گازوئیل ) | F18: لیتر | Q18: =P18+O18+N18+M18+L18+K18+J18 -> 0 | R18: =(Q18-E18)*100/E18 -> #DIV/0!
B19: 10 | C19: مواد مصرفی اداری ،پزشکی و آزمایشگاهی | D19: مواد مصرفي پزشكي و آزمايشگاهي | Q19: =P19+O19+N19+M19+L19+K19+J19 -> 0 | R19: =(Q19-E19)*100/E19 -> #DIV/0!
B20: 11 | D20: ملزومات مصرفي اداري | F20: نفر | Q20: =P20+O20+N20+M20+L20+K20+J20 -> 0 | R20: =(Q20-E20)*100/E20 -> #DIV/0!
B21: 12 | D21: مواد شوينده | F21: متر مربع | Q21: =P21+O21+N21+M21+L21+K21+J21 -> 0 | R21: =(Q21-E21)*100/E21 -> #DIV/0!
B22: 13 | D22: لباس ، پوشاك ، پارچه و ملحفه | F22: بيمار | Q22: =P22+O22+N22+M22+L22+K22+J22 -> 0 | R22: =(Q22-E22)*100/E22 -> #DIV/0!
B23: 14 | D23: مواد غذائي | F23: پرس | Q23: =P23+O23+N23+M23+L23+K23+J23 -> 0 | R23: =(Q23-E23)*100/E23 -> #DIV/0!
B24: 15 | D24: ملزومات تاسيساتي و ساختماني | F24: متر مربع | Q24: =P24+O24+N24+M24+L24+K24+J24 -> 0 | R24: =(Q24-E24)*100/E24 -> #DIV/0!
B25: 16 | C25: هزینه کارورزی دانشجویان | Q25: =P25+O25+N25+M25+L25+K25+J25 -> 0 | R25: =(Q25-E25)*100/E25 -> #DIV/0!
B26: 17 | C26: مطالعات و تحقیقات | F26: پروژه | Q26: =P26+O26+N26+M26+L26+K26+J26 -> 0 | R26: =(Q26-E26)*100/E26 -> #DIV/0!
B27: 18 | C27: هزینه های آموزشی ( مثل اردوهای آموزشی ...) | Q27: =P27+O27+N27+M27+L27+K27+J27 -> 0 | R27: =(Q27-E27)*100/E27 -> #DIV/0!
B28: 19 | C28: چاپ و خرید کتب و مجلات و نشریات | Q28: =P28+O28+N28+M28+L28+K28+J28 -> 0 | R28: =(Q28-E28)*100/E28 -> #DIV/0!
B29: 20 | C29: هزينه هاي تلفن، ارتباطات و اينترنت | F29: تعداد خطوط/ | Q29: =P29+O29+N29+M29+L29+K29+J29 -> 0 | R29: =(Q29-E29)*100/E29 -> #DIV/0!
B30: 21 | C30: هزينه هاي حمل و نقل | F30: بار / دفعه | Q30: =P30+O30+N30+M30+L30+K30+J30 -> 0 | R30: =(Q30-E30)*100/E30 -> #DIV/0!
B31: 22 | C31: هزينه هاي نگهداري و تعمير دارائي هاي ثابت و وسايل اداري | F31: مترمربع/ دستگاه | Q31: =P31+O31+N31+M31+L31+K31+J31 -> 0 | R31: =(Q31-E31)*100/E31 -> #DIV/0!
B32: 23 | C32: تصويربرداري و تبليغات،‌ | Q32: =P32+O32+N32+M32+L32+K32+J32 -> 0 | R32: =(Q32-E32)*100/E32 -> #DIV/0!
B33: 24 | C33: تشریفات | Q33: =P33+O33+N33+M33+L33+K33+J33 -> 0 | R33: =(Q33-E33)*100/E33 -> #DIV/0!
B34: 25 | C34: هزينه هاي قضائي،‌ ثبتي و حقوقي، هزينه هاي بانكي، | Q34: =P34+O34+N34+M34+L34+K34+J34 -> 0 | R34: =(Q34-E34)*100/E34 -> #DIV/0!
B35: 26 | C35: اجرای برنامه های مذهبی ، فرهنگی | Q35: =P35+O35+N35+M35+L35+K35+J35 -> 0 | R35: =(Q35-E35)*100/E35 -> #DIV/0!
B36: 27 | C36: عوارض شهرداري ، بيمه خودروها و ساختمانها ، ماليات بر ارزش افزوده و ... | F36: تعداد ساختمان / تعداد اتومبيل / و..... | Q36: =P36+O36+N36+M36+L36+K36+J36 -> 0 | R36: =(Q36-E36)*100/E36 -> #DIV/0!
B37: 28 | C37: اجاره ساختمان | F37: تعداد ساختمان | Q37: =P37+O37+N37+M37+L37+K37+J37 -> 0 | R37: =(Q37-E37)*100/E37 -> #DIV/0!
B38: 29 | C38: سایر هزینه ها | Q38: =P38+O38+N38+M38+L38+K38+J38 -> 0 | R38: =(Q38-E38)*100/E38 -> #DIV/0!
B39: جمع کل | I39: =SUM(I10:I38) -> 0 | J39: =SUM(J10:J38) -> 0 | K39: =SUM(K10:K38) -> 0 | L39: =SUM(L10:L38) -> 0 | M39: =SUM(M10:M38) -> 0 | N39: =SUM(N10:N38) -> 0 | O39: =SUM(O10:O38) -> 0 | P39: =SUM(P10:P38) -> 0 | Q39: =SUM(Q10:Q38) -> 0 | R39: =(Q39-E39)*100/E39 -> #DIV/0!
B41: معاون اداری و مالی دانشکده / مرکز تحقیقاتی | G41: رئیس دانشکده / مرکز تحقیقاتی
B42: نام و نام خانوادگی | G42: نام و نام خانوادگی
B43: مدیر برنامه ریزی منابع مالی ، بودجه وپایش عملکرد | E43: مدیر امور مالی دانشگاه | I43: معاون توسعه مدیریت و منابع دانشگاه
B44: نام و نام خانوادگی | E44: نام و نام خانوادگی | I44: نام و نام خانوادگی

Sheet تملک دارایی
B2: آرم دانشگاه | E2: نام دانشگاه :
B3: مديريت برنامه ريزي منابع مالي، بودجه و پایش عملکرد
B4: تفاهم نامه عملياتي سال 1404 | E4: نام واحد :
B5: فرم شماره 4- تملک دارائی های سرمایه ای
H6: « ارقام به ميليون ريال »
B7: پروژه | C7: فعالیت | D7: اولویت | E7: متراژ / تعداد | F7: مصارف | G7: محل تامین اعتبار
F8: کل مورد نیاز | G8: عمومي | H8: اختصاصي | I8: ردیف های متمرکز | J8: سایر منابع | K8: جمع
B9: تعمیرات اساسی | G9: 0 | H9: 0 | J9: 0 | K9: =SUM(G9:J9) -> 0
K10: =SUM(G10:J10) -> 0
K11: =SUM(G11:J11) -> 0
G12: 0 | H12: 0 | J12: 0 | K12: =SUM(G12:J12) -> 0
C13: جمع تعمیرات اساسی | F13: =SUM(F9:F12) -> 0 | G13: =SUM(G9:G12) -> 0 | H13: =SUM(H9:H12) -> 0 | I13: =SUM(I9:I12) -> 0 | J13: =SUM(J9:J12) -> 0 | K13: =SUM(K9:K12) -> 0
B14: تجهیزات و ماشین آلات آموزشی / پژوهشی | G14: 0 | H14: 0 | J14: 0 | K14: =SUM(G14:J14) -> 0
G15: 0 | H15: 0 | J15: 0 | K15: =SUM(G15:J15) -> 0
G16: 0 | H16: 0 | J16: 0 | K16: =SUM(G16:J16) -> 0
G17: 0 | H17: 0 | J17: 0 | K17: =SUM(G17:J17) -> 0
C18: جمع بهبود استاندارد تجهیزات | F18: =SUM(F14:F17) -> 0 | G18: =SUM(G14:G17) -> 0 | H18: =SUM(H14:H17) -> 0 | I18: =SUM(I14:I17) -> 0 | J18: =SUM(J14:J17) -> 0 | K18: =SUM(K14:K17) -> 0
B19: جمع کل تعمیرات وتجهیزات | F19: =F18+F13 -> 0 | G19: =G18+G13 -> 0 | H19: =H18+H13 -> 0 | I19: =I18+I13 -> 0 | J19: =J18+J13 -> 0 | K19: =K18+K13 -> 0
B21: معاون اداری و مالی دانشکده / مرکز تحقیقاتی | E21: رئیس دانشکده/ مرکز تحقیقاتی | H21: مدیر فنی و نظارت بر طرح های عمرانی دانشگاه
B22: نام و نام خانوادگی | E22: نام و نام خانوادگی | H22: نام و نام خانوادگی
B23: مدیر برنامه ریزی منابع مالی ، بودجه وپایش عملکرد | E23: مدیر امور مالی دانشگاه | H23: معاون توسعه مدیریت و منابع دانشگاه
B24: نام و نام خانوادگی | E24: نام و نام خانوادگی | H24: نام و نام خانوادگی

Sheet اطلاعات نیروی انسانی
G6: عنوان دستگاه : دانشگاه علوم پزشكي وخدمات بهداشتي درماني ...
E7: مديريت برنامه ريزي منابع مالي، بودجه و پایش عملکرد
E8: تفاهم نامه عملياتي سال 1404 | G8: نام واحد :
E9: فرم شماره5 : اطلاعات نیروی انسانی
E11: بخش الف - تعداد نيروي انساني به تفكيك نوع استخدام در ابتداي سال 1404
E12: شرح | G12: رسمي | H12: پيماني | I12: ضريب k | J12: طرحی | K12: قرارداد تبصره 4 | L12: قرارداد تبصره3 | M12: قانون کار | N12: جمع | O12: شرکتی | P12: سایر | Q12: جمع كل
E13: کارکنان هيئت علمي | Q13: =SUM(N13:O13) -> 0
E14: کارکنان غیر هيئت علمي | Q14: =SUM(N14:O14) -> 0
E15: جمع کل کارکنان | G15: =SUM(G13:G14) -> 0 | H15: =SUM(H13:H14) -> 0 | I15: =SUM(I13:I14) -> 0 | J15: =SUM(J13:J14) -> 0 | K15: =SUM(K13:K14) -> 0 | L15: =SUM(L13:L14) -> 0 | M15: =SUM(M13:M14) -> 0 | N15: =SUM(N13:N14) -> 0 | O15: =SUM(O13:O14) -> 0 | Q15: =SUM(Q13:Q14) -> 0
E16: بخش ب -پیش بینی تعداد نيروي انساني ورودي و خروجي غیر هیئت علمی در سال 1404
E17: شرح | G17: رسمي | H17: پيماني | I17: ضريب k | J17: طرحی | K17: قرارداد كارمعين حرفه اي | L17: قرارداد كارمعين غير حرفه اي | M17: قانون کار | N17: جمع | O17: شرکتی | P17: سایر | Q17: جمع كل
E18: کارکنان غیر هیئت علمی | F18: خروجی | N18: =M18+L18+K18+J18+I18+H18+G18 -> 0 | Q18: =P18+O18+N18 -> 0
F19: ورودی | N19: =M19+L19+K19+J19+I19+H19+G19 -> 0 | Q19: =P19+O19+N19 -> 0
E20: تفاوت کارکنان ورودی به جایگزینی خروجی | G20: =G19-G18 -> 0 | H20: =H19-H18 -> 0 | I20: =I19-I18 -> 0 | J20: =J19-J18 -> 0 | K20: =K19-K18 -> 0 | L20: =L19-L18 -> 0 | M20: =M19-M18 -> 0 | N20: =N19-N18 -> 0 | ... Q20: =Q19-Q18 -> 0
E21: تعداد کارکنان غیر هیئت علمی جدید الاستخدام بر اساس مجوز سازمان امور اداری و استخدامی کشور / وزارت بهداشت درمان و آموزش پزشکی | N21: =H21 -> 0 | Q21: =N21 -> 0
E22: بخش ج -پیش بینی تعداد نيروي انساني به تفكيك نوع استخدام در انتهای سال 1404
E23: شرح | G23: رسمي | H23: پيماني | I23: ضريب k | J23: طرحی | K23: قرارداد كارمعين حرفه اي | L23: قرارداد كارمعين غير حرفه اي | M23: قانون کار | N23: جمع | O23: شرکتی | P23: سایر | Q23: جمع كل
E24: کارکنان هيئت علمي | N24: =M24+L24+K24+J24+I24+H24+G24 -> 0 | Q24: =O24+N24 -> 0
E25: کارکنان غیر هيئت علمي | N25: =M25+L25+K25+J25+I25+H25+G25 -> 0 | Q25: =O25+N25 -> 0
E26: جمع کل کارکنان | G26: =SUM(G24:G25) -> 0 | H26: =SUM(H24:H25) -> 0 | I26: =SUM(I24:I25) -> 0 | J26: =SUM(J24:J25) -> 0 | K26: =SUM(K24:K25) -> 0 | L26: =SUM(L24:L25) -> 0 | M26: =SUM(M24:M25) -> 0 | N26: =SUM(N24:N25) -> 0 | ... Q26: =SUM(Q24:Q25) -> 0
E28: معاون اداری و مالی دانشکده / مرکز تحقیقاتی | H28: رئیس دانشکده / مرکز تحقیقاتی | L28: مدیر توسعه سازمان وسرمایه انسانی دانشگاه
E29: نام و نام خانوادگی | H29: نام و نام خانوادگی | L29: نام و نام خانوادگی
E30: مدیر برنامه ریزی منابع مالی ، بودجه وپایش عملکرد | H30: مدیر امور مالی دانشگاه | L30: معاون توسعه مدیریت و منابع دانشگاه
E31: نام و نام خانوادگی | H31: نام و نام خانوادگی | L31: نام و نام خانوادگی

Sheet دانشجو و شاخص 
E6: ارم دانشگاه | H6: عنوان دستگاه : دانشگاه علوم پزشكي وخدمات بهداشتي درماني ...
E7: مديريت برنامه ريزي منابع مالي، بودجه و پایش عملکرد
E8: تفاهم نامه عملياتي سال 1404 | H8: نام واحد :
E9: فرم شماره6 : اطلاعات دانشجویان و شاخص ها
E11: تعداد دانشجو شاغل به تحصیل در ابتدای سال 1404
E12: کاردانی | F12: کارشناسی | G12: کارشناسی ارشد | H12: MPH | I12: دکترای حرفه ای | J12: دکترای تخصصی | K12: PHD | L12: دکترای فوق تخصصی | M12: فلوشیپ | N12: جمع کل
E15: سال | F15: شاخص
F16: درصد نیروی شرکتی از کل نیروها | G16: نسبت دانشجو به هیئت علمی | H16: سرانه هزینه حقوق و مزایای مستمر به کل کارکنان ( میلیون ریال ) | I16: سرانه سایر هزینه های پرسنلی به کل کارکنان ( میلیون ریال ) | J16: درصد حقوق و مزایای مستمر ( کل کارکنان با نیروهای شرکتی ) از کل هزینه ها | K16: درصد هزینه حقوق و مزایای مستمر از کل هزینه ها | L16: درصد سایر هزینه های پرسنلی از کل هزینه ها | M16: درصد مجموع هزینه های پرسنلی از کل هزینه ها | N16: درصد سا یر هزینه ها از کل هزینه ها
E17: عملکرد 1403
E18: تفاهم نامه 1404
E20: سال | F20: شاخص
F21: سرانه اضافه کار | G21: سرانه رفاهی | H21: سرانه انرژی | I21: سرانه حق التدریس | J21: سرانه مواد مصرفی اداری | K21: سرانه مواد مصرفی آزمایشگاهی
E22: عملکرد 1403
E23: تفاهم نامه 1404
E26: معاون اداری و مالی دانشکده | J26: رئیس دانشکده
E27: نام و نام خانوادگی | J27: نام و نام خانوادگی
E28: مدیر برنامه ریزی منابع مالی ، بودجه وپایش عملکرد | H28: مدیر امور مالی دانشگاه | L28: معاون توسعه مدیریت و منابع دانشگاه
E29: نام و نام خانوادگی | H29: نام و نام خانوادگی | L29: نام و نام خانوادگی

Sheet پیوست -جزئیات تراز
B2: تفاهم نامه هزینه ای سال 1404 | E2: عنوان دستگاه :دانشگاه علوم پزشکی و خدمات بهداشتی درمانی ...
B3: پیوست - جزئیات تراز ابتدای سال 1404 | E3: کد دستگاه :
B6: تراز ابتدای سال 1404
B7: مانده نقد ابتدای سال 1404 | E7: مطالبات ابتدای سال 1404 | F7: جمع کل منابع منتقله از سال قبل | G7: تعهدات ابتدای سال 1404 | J7: تراز ابتدای سال 1404
B8: درآمد اختصاصی | C8: ردیف های متمرکز | D8: جمع | G8: پرسنلی | H8: غیر پرسنلی | I8: جمع
D9: =C9+B9 -> 0 | F9: =E9+D9 -> 0 | G9: =D21 -> 0 | H9: =H21 -> 0 | I9: =H9+G9 -> 0 | J9: =I9-F9 -> 0
B11: تعهدات منتقله از سال قبل
B12: پرسنلی | E12: غیر پرسنلی
B13: ردیف | C13: عنوان هزینه | D13: مبلغ | E13: ردیف | F13: عنوان هزینه | H13: مبلغ
B14: 1 | C14: اضافه کار | E14: 1 | F14: قرارداد
B15: 2 | C15: حقوق و مزایای نیروهای شرکتی | E15: 2 | F15: انرژی
B16: 3 | C16: پایان نامه | E16: 3 | F16: دارو ومکمل
B17: 4 | C17: حق التدریس | E17: 4 | F17: مواد مصرفی اداری و آزمایشگاهی
B18: 5 | E18: 5
B19: 6 | E19: 6
B20: 7 | E20: 7
B21: جمع پرسنلی | D21: =SUM(D14:D20) -> 0 | E21: جمع غیر پرسنلی | H21: =SUM(H14:H20) -> 0
B22: جمع کل تعهدات پرسنلی و غیر پرسنلی | F22: =D21+H21 -> 0
