Workbook

Sheet روکش
C2: آرم دانشگاه | G2: دانشگاه علوم پزشکی و خدمات بهداشتی درمانی ...
C3: مديريت برنامه ريزي منابع مالي، بودجه و پایش عملکرد | G3: نام بیمارستان
C4: تفاهم نامه عملياتي سال1404
C5: روکش : مجموع منابع و مصارف
J6: « ارقام به ميليون ريال »
C7: خلاصه اعتبارات
C8: هزینه ای | I8: تملک دارائیهای سرمایه ای | N8: جمع کل
C9: عمومي( قانون بودجه ) | D9: درآمد اختصاصی تعهدی ( کارکرد) | E9: ردیف های متمرکز ، هدفمندی ، ارزش افزوده و... | F9: سایر منابع از سایر سازمانها و... | G9: سایر منابع به شرط وصول | H9: جمع | I9: عمومی | J9: درآمد اختصاصی | K9: ردیف های متمرکز | L9: سایر منابع از سایر سازمانها و... | M9: جمع
H11: =G11+F11+E11+D11+C11 -> 0 | M11: =L11+K11+J11+I11 -> 0 | N11: =M11+K11+J11+L11 -> 0
C13: الف - هزینه ای
C14: عنوان برنامه | E14: منبع | F14: منابع | H14: مصارف
H15: حقوق و مزاياي مستمر كاركنان | J15: ساير هزينه هاي پرسنلي | L15: ساير هزينه ها | N15: جمع مصارف
E16: عمومي | F16: ='حقوق ومزایای مستمر'!H23+'سایر پرسنلی'!J37+'سایر هزینه ها'!J38 -> 0 | H16: ='حقوق ومزایای مستمر'!H23 -> 0 | J16: ='سایر پرسنلی'!H37 -> 0 | L16: ='سایر هزینه ها'!J38 -> 0 | N16: =L16+J16+H16 -> 0
E17: اختصاصي | F17: ='حقوق ومزایای مستمر'!I23+'سایر پرسنلی'!I37+'سایر هزینه ها'!K38 -> 0 | H17: ='حقوق ومزایای مستمر'!I23 -> 0 | J17: ='سایر پرسنلی'!I37 -> 0 | L17: ='سایر هزینه ها'!K38 -> 0 | N17: =L17+J17+H17 -> 0
E18: عمومي | F18: ='حقوق ومزایای مستمر'!J23+'سایر پرسنلی'!J37+'سایر هزینه ها'!L38 -> 0 | H18: ='حقوق ومزایای مستمر'!J23 -> 0 | J18: ='سایر پرسنلی'!J37 -> 0 | L18: ='سایر هزینه ها'!L38 -> 0 | N18: =L18+J18+H18 -> 0
E19: اختصاصي | F19: ='حقوق ومزایای مستمر'!K23+'سایر پرسنلی'!K37+'سایر هزینه ها'!M38 -> 0 | H19: ='حقوق ومزایای مستمر'!K23 -> 0 | J19: ='سایر پرسنلی'!K37 -> 0 | L19: ='سایر هزینه ها'!M38 -> 0 | N19: =L19+J19+H19 -> 0
C20: ردیف های متمرکز ، هدفمندی ، ارزش افزوده و... | F20: ='سایر پرسنلی'!L37+'سایر هزینه ها'!N38 -> 0 | H20: 0 | J20: ='سایر پرسنلی'!L37 -> 0 | L20: ='سایر هزینه ها'!N38 -> 0 | N20: =L20+J20+H20 -> 0
C21: سایر منابع | F21: ='سایر پرسنلی'!M37+'سایر هزینه ها'!O38 -> 0 | H21: 0 | J21: ='سایر پرسنلی'!M37 -> 0 | L21: ='سایر هزینه ها'!O38 -> 0 | N21: =L21+J21+H21 -> 0
C22: سایر منابع به شرط وصول | F22: ='سایر پرسنلی'!N37+'سایر هزینه ها'!P38 -> 0 | H22: 0 | J22: ='سایر پرسنلی'!N37 -> 0 | L22: ='سایر هزینه ها'!P38 -> 0 | N22: =L22+J22+H22 -> 0
C23: جمع | F23: =SUM(F16:G22) -> 0 | G23: =SUM(G16:I22) -> 0 | H23: =SUM(H16:I22) -> 0 | J23: =SUM(J16:K22) -> 0 | L23: =SUM(L16:M22) -> 0 | M23: =SUM(M16:N22) -> 0 | N23: =SUM(N16:N22) -> 0
C25: ب - تملک دارائی / افزایش دارائیهای ثابت
C26: عنوان پروژه | E26: منابع اعتباري | F26: منابع | I26: مصارف | L26: ج- تراز ابتدای سال 1404
C27: تعمیرات اساسی | E27: عمومي | F27: ='تملک دارایی'!G12 -> 0 | I27: =F27 -> 0 | L27: مانده نقد ومطالبات منتقلله از سال قبل | M27: تعهدات منتقله از سال قبل | N27: تراز ابتدای سال
E28: اختصاصي | F28: ='تملک دارایی'!H12 -> 0 | I28: =F28 -> 0
E29: ردیف متمرکز | F29: ='تملک دارایی'!I12 -> 0 | I29: =F29 -> 0
E30: ساير منابع | F30: ='تملک دارایی'!J12 -> 0 | I30: =F30 -> 0
C31: جمع تعمیرات اساسی | F31: =F30+F29+F28+F27 -> 0 | I31: =I30+I29+I28+I27 -> 0 | L31: ='پیوست - چزئیات تراز '!J12 -> 0 | M31: ='پیوست - چزئیات تراز '!M12 -> 0 | N31: =M31-L31 -> 0
C32: بهبود استاندارد تجهيزات بيمارستاني | E32: عمومي | F32: ='تملک دارایی'!G16 -> 0 | I32: =F32 -> 0
E33: اختصاصي | F33: ='تملک دارایی'!H16 -> 0 | I33: =F33 -> 0
E34: ردیف متمرکز | F34: ='تملک دارایی'!I16 -> 0 | I34: =F34 -> 0
E35: ساير منابع | F35: ='تملک دارایی'!J16 -> 0 | I35: =F35 -> 0
C36: جمع بهبود استاندارد تجهیزات | F36: =F35+F34+F33+F32 -> 0 | I36: =I35+I34+I33+I32 -> 0
C37: جمع كل تملك دارائيهاي سرمايه اي | E37: عمومي | F37: =F32+F27 -> 0 | I37: =F37 -> 0
E38: اختصاصي | F38: =F33+F28 -> 0 | I38: =F38 -> 0
E39: ردیف متمرکز | F39: =F34+F29 -> 0 | I39: =F39 -> 0
E40: ساير منابع | F40: =F30+F35 -> 0 | I40: =F40 -> 0
E41: كل | F41: =SUM(F37:H40) -> 0 | I41: =SUM(I37:K40) -> 0
C43: مدیر بیمارستان | G43: رئیس بیمارستان | J43: مدیر امور مالی دانشگاه
C44: نام و نام خانوادگی | G44: نام و نام خانوادگی | J44: نام و نام خانوادگی
C46: مدیر برنامه ریزی منابع مالی ، بودجه وپایش عملکرد دانشگاه | J46: معاون توسعه مدیریت و منابع دانشگاه
...

Sheet حقوق ومزایای مستمر
B2: آرم دانشگاه | E2: نام دانشگاه :
B3: مديريت برنامه ريزي منابع مالي، بودجه و پایش عملکرد | E3: نام واحد :
B4: تفاهم نامه عملياتي سال 1404
B5: فرم شماره 1: حقوق و مزایای مستمر
J6: ارقام به میلیون ریال
B7: ردیف | C7: عنوان | D7: هزینه های عملیاتی | E7: عملکرد سال 1403 | F7: تعداد كاركنان | G7: مصارف | H7: محل تامین اعتبار | M7: درصد رشد هزینه های سال 1404 نسبت به عملکرد سال 1403
G8: کل مورد نیاز | H8: برنامه .... | J8: برنامه ... | L8: جمع کل
H9: عمومی | I9: اختصاصی | J9: عمومی | K9: اختصاصی
B10: 1 | C10: هیئت علمی | D10: پرداخت حقوق و مزاياي كاركنان رسمي و پيماني, قراردادی هيئت علمي ( با بیمه 2% سهم کارفرما خدمات درمانی و بیمه تامین اجتماعی ) | L10: =K10+J10+I10+H10 -> 0 | M10: =(L10-E10)*100/E10 -> #DIV/0!
B11: 2 | D11: پرداخت عيدي كاركنان رسمي و پيماني قراردادی هيئت علمي | L11: =K11+J11+I11+H11 -> 0 | M11: =(L11-E11)*100/E11 -> #DIV/0!
B12: 3 | D12: پرداخت حقوق و مزاياي كاركنان طرحی و ضریب کا هيئت علمي( با بیمه تامین اجتماعی ) | L12: =K12+J12+I12+H12 -> 0 | M12: =(L12-E12)*100/E12 -> #DIV/0!
B13: 4 | D13: پرداخت عيدي كاركنان طرحی و ضریب کا هيئت علمي | L13: =K13+J13+I13+H13 -> 0 | M13: =(L13-E13)*100/E13 -> #DIV/0!
B14: جمع حقوق ومزایای کارکنان هیئت علمی | E14: =SUM(E10:E13) -> 0 | F14: =F12+F10 -> 0 | G14: =G12+G10 -> 0 | H14: =H12+H10 -> 0 | I14: =I12+I10 -> 0 | J14: =J12+J10 -> 0 | K14: =K12+K10 -> 0 | L14: =K14+J14+I14+H14 -> 0 | M14: =(L14-E14)*100/E14 -> #DIV/0!
B15: 5 | C15: غیر هیئت علمی | D15: پرداخت حقوق و مزاياي كاركنان رسمي، رسمي بيمه اي و پيماني غير هيئت علمي ( با 2% بیمه خدمات درمانی سهم کارفرما برای کارکنان رسمی و بیمه تامین اجتماعی کارکنان پیمانی ) | L15: =K15+J15+I15+H15 -> 0 | M15: =(L15-E15)*100/E15 -> #DIV/0!
B16: 6 | D16: پرداخت عيدي كاركنان رسمي، رسمي بيمه اي و پيماني غير هيئت علمي | L16: =K16+J16+I16+H16 -> 0 | M16: =(L16-E16)*100/E16 -> #DIV/0!
B17: 7 | D17: پرداخت حقوق و مزاياي كاركنان طرحي ، خريد خدمت و ضريب كا ( با بیمه تامین اجتماعی ) | L17: =K17+J17+I17+H17 -> 0 | M17: =(L17-E17)*100/E17 -> #DIV/0!
B18: 8 | D18: پرداخت عيدي كاركنان طرحي ، خريد خدمت و ضريب كا | L18: =K18+J18+I18+H18 -> 0 | M18: =(L18-E18)*100/E18 -> #DIV/0!
B19: 9 | D19: پرداخت حقوق و مزاياي كاركنان قراردادي ( با بیمه تامین اجتماعی ) | L19: =K19+J19+I19+H19 -> 0 | M19: =(L19-E19)*100/E19 -> #DIV/0!
B20: 10 | D20: پرداخت عيدي كاركنان قراردادي | L20: =K20+J20+I20+H20 -> 0 | M20: =(L20-E20)*100/E20 -> #DIV/0!
B21: 11 | D21: پرداخت حقوق و مزایای کارکنان شرکتی | L21: =K21+J21+I21+H21 -> 0 | M21: =(L21-E21)*100/E21 -> #DIV/0!
B22: جمع حقوق و مزایای کارکنان غیر هیئت علمی | E22: =SUM(E15:E21) -> 0 | F22: =F21+F19+F17+F15 -> 0 | G22: =SUM(G15:G21) -> 0 | H22: =SUM(H15:H21) -> 0 | I22: =SUM(I15:I21) -> 0 | J22: =SUM(J15:J21) -> 0 | K22: =SUM(K15:K21) -> 0 | L22: =K22+J22+I22+H22 -> 0 | M22: =(L22-E22)*100/E22 -> #DIV/0!
B23: جمع کل حقوق و مزایای مستمر کارکنان هیئت علمی و غیر هیئت علمی | E23: =E22+E14 -> 0 | F23: =F22+F14 -> 0 | G23: =G22+G14 -> 0 | H23: =H22+H14 -> 0 | I23: =I22+I14 -> 0 | J23: =J22+J14 -> 0 | K23: =K22+K14 -> 0 | L23: =K23+J23+I23+H23 -> 0 | M23: =(L23-E23)*100/E23 -> #DIV/0!
B26: مدیر بیمارستان | E26: رئیس بیمارستان | J26: مدیر امور مالی دانشگاه
B27: نام و نام خانوادگی | E27: نام و نام خانوادگی | J27: نام و نام خانوادگی
B29: مدیر برنامه ریزی منابع مالی ، بودجه وپایش عملکرد | G29: معاون توسعه مدیریت و منابع دانشگاه
B30: نام و نام خانوادگی | G30: نام و نام خانوادگی

Sheet سایر پرسنلی
B2: ارم دانشگاه | G2: نام دانشگاه :
B3: مديريت برنامه ريزي منابع مالي، بودجه و پایش عملکرد | G3: نام واحد :
B4: تفاهم نامه عملياتي سال 1404
B5: فرم شماره 2: سایر هزینه های پرسنلی
J7: « ارقام به ميليون ريال »
B8: ردیف | C8: هزینه های عملیاتی | E8: عملکرد سال 1403 | F8: تعداد كاركنان | G8: مصارف | H8: محل تامین اعتبار | P8: درصد رشد هزینه های سال 1404 نسبت به عملکرد سال 1403
G9: کل مورد نیاز | H9: برنامه .... | J9: برنامه ... | L9: ردیف های متمرکز، هدفمندی ، ارزش افزوده و... | M9: سایر منابع | N9: سایر منابع به شرط وصول | O9: جمع کل
H10: عمومی | I10: اختصاصی | J10: عمومی | K10: اختصاصی
B11: 1 | C11: محروميت از مطب / تمام وقتی | D11: کارکنان هيئت علمي | O11: =N11+M11+L11+K11+J11+I11+H11 -> 0 | P11: =(O11-E11)*100/E11 -> #DIV/0!
B12: 2 | D12: كاركنان غير هيئت علمي | O12: =N12+M12+L12+K12+J12+I12+H12 -> 0 | P12: =(O12-E12)*100/E12 -> #DIV/0!
B13: 3 | C13: اضافه کار | D13: مشمولین قانون ارتقای بهره وری | O13: =N13+M13+L13+K13+J13+I13+H13 -> 0 | P13: =(O13-E13)*100/E13 -> #DIV/0!
B14: 4 | D14: غیر مشمولین قانون ارتقای بهره وری | O14: =N14+M14+L14+K14+J14+I14+H14 -> 0 | P14: =(O14-E14)*100/E14 -> #DIV/0!
B15: 5 | C15: کارانه | D15: كارانه پزشكان | O15: =N15+M15+L15+K15+J15+I15+H15 -> 0 | P15: =(O15-E15)*100/E15 -> #DIV/0!
B16: 6 | D16: کارانه تعرفه پرستاری | O16: =N16+M16+L16+K16+J16+I16+H16 -> 0 | P16: =(O16-E16)*100/E16 -> #DIV/0!
B17: 7 | D17: كارانه كاركنان | O17: =N17+M17+L17+K17+J17+I17+H17 -> 0 | P17: =(O17-E17)*100/E17 -> #DIV/0!
B18: 8 | C18: کمکهای رفاهی کارکنان | D18: كمك به حساب پس انداز كار كنان | O18: =N18+M18+L18+K18+J18+I18+H18 -> 0 | P18: =(O18-E18)*100/E18 -> #DIV/0!
B19: 9 | D19: كمك هزينه مسكن | O19: =N19+M19+L19+K19+J19+I19+H19 -> 0 | P19: =(O19-E19)*100/E19 -> #DIV/0!
B20: 10 | D20: كمك هزينه غذا | O20: =N20+M20+L20+K20+J20+I20+H20 -> 0 | P20: =(O20-E20)*100/E20 -> #DIV/0!
B21: 11 | D21: کمک هزینه ایاب و ذهاب | O21: =N21+M21+L21+K21+J21+I21+H21 -> 0 | P21: =(O21-E21)*100/E21 -> #DIV/0!
A22: =F22*0.5 -> 0 | B22: 12 | D22: کمک هزينه ورزشي كاركنان | O22: =N22+M22+L22+K22+J22+I22+H22 -> 0 | P22: =(O22-E22)*100/E22 -> #DIV/0!
B23: 13 | D23: کمک هزینه مهد کودک | O23: =N23+M23+L23+K23+J23+I23+H23 -> 0 | P23: =(O23-E23)*100/E23 -> #DIV/0!
B24: 14 | D24: کمک هزینه آموزش ضمن خدمت | O24: =N24+M24+L24+K24+J24+I24+H24 -> 0 | P24: =(O24-E24)*100/E24 -> #DIV/0!
B25: 15 | D25: کمک هزینه ازدواج و فوت | O25: =N25+M25+L25+K25+J25+I25+H25 -> 0 | P25: =(O25-E25)*100/E25 -> #DIV/0!
B26: 16 | D26: کمک هزینه بیمه عمر ، بیمه مکمل و هزینه درمان جانبازان | O26: =N26+M26+L26+K26+J26+I26+H26 -> 0 | P26: =(O26-E26)*100/E26 -> #DIV/0!
B27: 17 | D27: سایر کمکهای رفاهی کارکنان | O27: =N27+M27+L27+K27+J27+I27+H27 -> 0 | P27: =(O27-E27)*100/E27 -> #DIV/0!
B28: 18 | C28: هزینه آموزش ضمن خدمت | P28: =(O28-E28)*100/E28 -> #DIV/0!
B29: 19 | C29: حق الزحمه مقیمی پزشکان متخصص | O29: =N29+M29+L29+K29+J29+I29+H29 -> 0 | P29: =(O29-E29)*100/E29 -> #DIV/0!
B30: 20 | C30: ماندگاری پزشکان در مناطق محروم | O30: =N30+M30+L30+K30+J30+I30+H30 -> 0 | P30: =(O30-E30)*100/E30 -> #DIV/0!
B31: 21 | C31: کمک هزینه تحصیلی دانشجویان اینترن و رزیدنت | O31: =N31+M31+L31+K31+J31+I31+H31 -> 0 | P31: =(O31-E31)*100/E31 -> #DIV/0!
B32: 22 | C32: سایر هزینه های دانشجویان | O32: =N32+M32+L32+K32+J32+I32+H32 -> 0 | P32: =(O32-E32)*100/E32 -> #DIV/0!
B33: 23 | C33: اجرت و حق الزحمه های پرداختی ( ماده 47) | O33: =N33+M33+L33+K33+J33+I33+H33 -> 0 | P33: =(O33-E33)*100/E33 -> #DIV/0!
A34: =F34*0.4 -> 0 | B34: 24 | C34: بازخرید مرخصی کارکنان قراردادی | O34: =N34+M34+L34+K34+J34+I34+H34 -> 0 | P34: =(O34-E34)*100/E34 -> #DIV/0!
B35: 25 | C35: بازخرید مرخصی بازنشستگان | O35: =N35+M35+L35+K35+J35+I35+H35 -> 0 | P35: =(O35-E35)*100/E35 -> #DIV/0!
B36: 26 | C36: سایر هزینه های پرسنلی | O36: =N36+M36+L36+K36+J36+I36+H36 -> 0 | P36: =(O36-E36)*100/E36 -> #DIV/0!
B37: جمع كل | E37: =SUM(E11:E36) -> 0 | F37: =SUM(F11:F36) -> 0 | G37: =SUM(G11:G36) -> 0 | H37: =SUM(H11:H36) -> 0 | I37: =SUM(I11:I36) -> 0 | J37: =SUM(J11:J36) -> 0 | K37: =SUM(K11:K36) -> 0 | L37: =SUM(L11:L36) -> 0 | ... O37: =SUM(O11:O36) -> 0 | P37: =(O37-E37)*100/E37 -> #DIV/0!
B40: مدیر بیمارستان | G40: رئیس بیمارستان | L40: مدیر امور مالی دانشگاه
B41: نام و نام خانوادگی | G41: نام و نام خانوادگی | L41: نام و نام خانوادگی
B43: مدیر برنامه ریزی منابع مالی ، بودجه وپایش عملکرد | I43: معاون توسعه مدیریت و منابع دانشگاه
B44: نام و نام خانوادگی | I44: نام و نام خانوادگی

Sheet سایر هزینه ها
B2: آرم دانشگاه | E2: نام دانشگاه :
B3: مديريت برنامه ريزي منابع مالي، بودجه و پایش عملکرد | E3: نام واحد :
B4: تفاهم نامه عملياتي سال 1404
B5: فرم شماره 3: سایر هزینه ها
P6: ارقام به میلیون ریال
B7: ردیف | C7: هزینه های عملیاتی | E7: عملکرد سال 1403 | F7: هدف كمي | I7: مصارف | J7: محل تامین اعتبار | R7: درصد رشد هزینه های سال 1404 نسبت به عملکرد سال 1403
I8: کل مورد نیاز | J8: برنامه .... | L8: برنامه .... | N8: ردیف های متمرکز، هدفمندی ،ارزش افزوده و... | O8: سایرمنابع | P8: سایر منابع به شرط وصول | Q8: جمع کل
F9: شاخص | G9: مقدار | H9: هزينه واحد | J9: عمومی | K9: اختصاصی | L9: عمومی | M9: اختصاصی
B10: 1 | C10: قراردادهای حجمی | D10: واگذاري اموراياب و ذهاب | F10: نيمراه | Q10: =P10+O10+N10+M10+L10+K10+J10 -> 0 | R10: =(Q10-E10)*100/E10 -> #DIV/0!
B11: 2 | D11: واگذاري امور تغذيه | F11: تعداد پرس | Q11: =P11+O11+N11+M11+L11+K11+J11 -> 0 | R11: =(Q11-E11)*100/E11 -> #DIV/0!
B12: 3 | D12: واگذاري نگهداري تاسيسات , اسانسور | F12: نفر | Q12: =P12+O12+N12+M12+L12+K12+J12 -> 0 | R12: =(Q12-E12)*100/E12 -> #DIV/0!
B13: 4 | D13: واگذاری مدیریت تعمیرات و قطعات رایانه و شبکه ها | F13: تعداد دستگاه | Q13: =P13+O13+N13+M13+L13+K13+J13 -> 0 | R13: =(Q13-E13)*100/E13 -> #DIV/0!
B14: 5 | D14: واگذاری خدمات نظافت | F14: مترمربع | Q14: =P14+O14+N14+M14+L14+K14+J14 -> 0 | R14: =(Q14-E14)*100/E14 -> #DIV/0!
B15: 6 | D15: واگذاري ساير امور بصورت قراردادي حجمي | Q15: =P15+O15+N15+M15+L15+K15+J15 -> 0 | R15: =(Q15-E15)*100/E15 -> #DIV/0!
B16: 7 | C16: انرژی | D16: هزینه آب | F16: ليتر / متر مكعب | Q16: =P16+O16+N16+M16+L16+K16+J16 -> 0 | R16: =(Q16-E16)*100/E16 -> #DIV/0!
B17: 8 | D17: هزینه برق | Q17: =P17+O17+N17+M17+L17+K17+J17 -> 0 | R17: =(Q17-E17)*100/E17 -> #DIV/0!
B18: 9 | D18: هزینه گاز | F18: متر مکعب | Q18: =P18+O18+N18+M18+L18+K18+J18 -> 0 | R18: =(Q18-E18)*100/E18 -> #DIV/0!
B19: 10 | D19: هزینه سوخت ( بنزین - نفت - گازوئیل ) | F19: لیتر | Q19: =P19+O19+N19+M19+L19+K19+J19 -> 0 | R19: =(Q19-E19)*100/E19 -> #DIV/0!
B20: 11 | C20: مواد مصرفی اداری ،پزشکی و آزمایشگاهی | D20: دارو | F20: تخت روز / قلم دارو | Q20: =P20+O20+N20+M20+L20+K20+J20 -> 0 | R20: =(Q20-E20)*100/E20 -> #DIV/0!
B21: 12 | D21: مواد مصرفي پزشكي و آزمايشگاهي | F21: تخت روز | Q21: =P21+O21+N21+M21+L21+K21+J21 -> 0 | R21: =(Q21-E21)*100/E21 -> #DIV/0!
B22: 13 | D22: ملزومات مصرفي اداري | F22: نفر | Q22: =P22+O22+N22+M22+L22+K22+J22 -> 0 | R22: =(Q22-E22)*100/E22 -> #DIV/0!
B23: 14 | D23: مواد شوينده | F23: متر مربع | Q23: =P23+O23+N23+M23+L23+K23+J23 -> 0 | R23: =(Q23-E23)*100/E23 -> #DIV/0!
B24: 15 | D24: لباس ، پوشاك ، پارچه و ملحفه | F24: بيمار | Q24: =P24+O24+N24+M24+L24+K24+J24 -> 0 | R24: =(Q24-E24)*100/E24 -> #DIV/0!
B25: 16 | D25: مواد غذائي | F25: پرس | Q25: =P25+O25+N25+M25+L25+K25+J25 -> 0 | R25: =(Q25-E25)*100/E25 -> #DIV/0!
B26: 17 | D26: ملزومات تاسيساتي و ساختماني | F26: متر مربع | Q26: =P26+O26+N26+M26+L26+K26+J26 -> 0 | R26: =(Q26-E26)*100/E26 -> #DIV/0!
B27: 18 | C27: قرارداد با پزشکان( ماده88 و...) | F27: نفر | Q27: =P27+O27+N27+M27+L27+K27+J27 -> 0 | R27: =(Q27-E27)*100/E27 -> #DIV/0!
B28: 19 | C28: برون سپاري خدمات( رادیولوژی / آزمایشگاه و...) | F28: تعداد واحد واگذار شده | Q28: =P28+O28+N28+M28+L28+K28+J28 -> 0 | R28: =(Q28-E28)*100/E28 -> #DIV/0!
B29: 20 | C29: هزينه هاي تلفن، ارتباطات و اينترنت | F29: تعداد خطوط/ | Q29: =P29+O29+N29+M29+L29+K29+J29 -> 0 | R29: =(Q29-E29)*100/E29 -> #DIV/0!
B30: 21 | C30: هزينه هاي حمل و نقل | F30: بار / دفعه | Q30: =P30+O30+N30+M30+L30+K30+J30 -> 0 | R30: =(Q30-E30)*100/E30 -> #DIV/0!
B31: 22 | C31: هزينه هاي نگهداري و تعمير دارائي هاي ثابت و وسايل اداري | F31: مترمربع/ دستگاه | Q31: =P31+O31+N31+M31+L31+K31+J31 -> 0 | R31: =(Q31-E31)*100/E31 -> #DIV/0!
B32: 23 | C32: تصويربرداري و تبليغات،‌ | Q32: =P32+O32+N32+M32+L32+K32+J32 -> 0 | R32: =(Q32-E32)*100/E32 -> #DIV/0!
B33: 24 | C33: تشریفات | Q33: =P33+O33+N33+M33+L33+K33+J33 -> 0 | R33: =(Q33-E33)*100/E33 -> #DIV/0!
B34: 25 | C34: اجراي برنامه هاي مذهبي و فرهنگي | Q34: =P34+O34+N34+M34+L34+K34+J34 -> 0 | R34: =(Q34-E34)*100/E34 -> #DIV/0!
B35: 26 | C35: پرداخت عوارض شهرداري ، بيمه خودروها و ساختمانها ، ماليات بر ارزش افزوده و ... | F35: تعداد ساختمان / تعداد اتومبيل / و..... | Q35: =P35+O35+N35+M35+L35+K35+J35 -> 0 | R35: =(Q35-E35)*100/E35 -> #DIV/0!
B36: 27 | C36: اجاره ساختمان | F36: تعداد ساختمان | Q36: =P36+O36+N36+M36+L36+K36+J36 -> 0 | R36: =(Q36-E36)*100/E36 -> #DIV/0!
B37: 28 | C37: سایر هزینه ها | Q37: =P37+O37+N37+M37+L37+K37+J37 -> 0 | R37: =(Q37-E37)*100/E37 -> #DIV/0!
B38: جمع کل | I38: =SUM(I10:I37) -> 0 | J38: =SUM(J10:J37) -> 0 | K38: =SUM(K10:K37) -> 0 | L38: =SUM(L10:L37) -> 0 | M38: =SUM(M10:M37) -> 0 | N38: =SUM(N10:N37) -> 0 | O38: =SUM(O10:O37) -> 0 | P38: =SUM(P10:P37) -> 0 | Q38: =SUM(Q10:Q37) -> 0 | R38: =(Q38-E38)*100/E38 -> #DIV/0!
B41: مدیر بیمارستان | G41: رئیس بیمارستان | N41: مدیر امور مالی دانشگاه
B42: نام و نام خانوادگی | G42: نام و نام خانوادگی | N42: نام و نام خانوادگی
B44: مدیر برنامه ریزی منابع مالی ، بودجه وپایش عملکرد | J44: معاون توسعه مدیریت و منابع دانشگاه
...

Sheet تملک دارایی
B2: آرم دانشگاه | E2: نام دانشگاه :
B3: مديريت برنامه ريزي منابع مالي، بودجه و پایش عملکرد
B4: تفاهم نامه عملياتي سال 1404 | E4: نام واحد :
B5: فرم شماره 4- تملک دارائی های سرمایه ای
H6: « ارقام به ميليون ريال »
B7: طرح | C7: فعالیت | D7: اولویت | E7: متراژ / تعداد | F7: مصارف | G7: محل تامین اعتبار
F8: کل مورد نیاز | G8: عمومي | H8: اختصاصي | I8: ردیف های متمرکز | J8: سایر منابع | K8: جمع
B9: تعمیرات اساسی بیمارستانها | G9: 0 | H9: 0 | J9: 0 | K9: =J9+I9+H9+G9 -> 0
K10: =J10+I10+H10+G10 -> 0
G11: 0 | H11: 0 | J11: 0 | K11: =J11+I11+H11+G11 -> 0
C12: جمع تعمیرات اساسی | F12: =F11+F10+F9 -> 0 | G12: =G11+G10+G9 -> 0 | H12: =H11+H10+H9 -> 0 | I12: =I11+I10+I9 -> 0 | J12: =J11+J10+J9 -> 0 | K12: =K11+K10+K9 -> 0
B13: بهبود استاندارد تجهيزات بيمارستاني | G13: 0 | H13: 0 | J13: 0 | K13: =J13+I13+H13+G13 -> 0
G14: 0 | H14: 0 | J14: 0 | K14: =J14+I14+H14+G14 -> 0
G15: 0 | H15: 0 | J15: 0 | K15: =J15+I15+H15+G15 -> 0
C16: جمع بهبود استاندارد تجهیزات | F16: =F15+F14+F13 -> 0 | G16: =G15+G14+G13 -> 0 | H16: =H15+H14+H13 -> 0 | I16: =I15+I14+I13 -> 0 | J16: =J15+J14+J13 -> 0 | K16: =K15+K14+K13 -> 0
B17: جمع کل تعمیرات اساسی و بهبود استاندارد تجهیزات | F17: =F16+F12 -> 0 | G17: =G16+G12 -> 0 | H17: =H16+H12 -> 0 | I17: =I16+I12 -> 0 | J17: =J16+J12 -> 0 | K17: =K16+K12 -> 0
B20: مدیر بیمارستان | E20: رئیس بیمارستان | I20: مدیر فنی و نظارت بر طرح های عمرانی دانشگاه
B21: نام و نام خانوادگی | E21: نام ونام خانوادگی | I21: نام ونام خانوادگی
B24: مدیر امور مالی دانشگاه | C24: مدیر برنامه ریزی منابع مالی ، بودجه و پایش عملکرد | H24: معاون توسعه مدیریت و منابع دانشگاه
B25: نام و نام خانوادگی | C25: نام و نام خانوادگی | H25: نام و نام خانوادگی

Sheet اطلاعات نیروی انسانی
E6: آرم دانشگاه | G6: عنوان دستگاه : دانشگاه علوم پزشكي وخدمات بهداشتي درماني ...
E7: مديريت برنامه ريزي منابع مالي، بودجه و پایش عملکرد
E8: تفاهم نامه عملياتي سال 1404 | G8: نام واحد : بیمارستان
E9: فرم شماره5 : اطلاعات نیروی انسانی
E11: بخش الف - تعداد نيروي انساني به تفكيك نوع استخدام در ابتداي سال 1404
E12: شرح | G12: رسمي | H12: پيماني | I12: ضريب k | J12: طرحی | K12: قرارداد تبصره 4 | L12: قرارداد تبصره3 | M12: قانون کار | N12: جمع | O12: شرکتی | P12: سایر | Q12: جمع كل
E13: کارکنان هيئت علمي | N13: =M13+L13+K13+J13+I13+H13+G13 -> 0 | Q13: =P13+O13+N13 -> 0
E14: کارکنان غیر هيئت علمي | N14: =M14+L14+K14+J14+I14+H14+G14 -> 0 | Q14: =P14+O14+N14 -> 0
E15: جمع کل کارکنان | G15: =SUM(G13:G14) -> 0 | H15: =SUM(H13:H14) -> 0 | I15: =SUM(I13:I14) -> 0 | J15: =SUM(J13:J14) -> 0 | K15: =SUM(K13:K14) -> 0 | L15: =SUM(L13:L14) -> 0 | M15: =SUM(M13:M14) -> 0 | N15: =SUM(N13:N14) -> 0 | ... Q15: =SUM(Q13:Q14) -> 0
E16: بخش ب -پیش بینی تعداد نيروي انساني ورودي و خروجي غیر هیئت علمی در سال 1404
E17: شرح | G17: رسمي | H17: پيماني | I17: ضريب k | J17: طرحی | K17: قرارداد كارمعين حرفه اي | L17: قرارداد كارمعين غير حرفه اي | M17: قانون کار | N17: جمع | O17: شرکتی | P17: سایر | Q17: جمع كل
E18: کارکنان غیر هیئت علمی | F18: خروجی | Q18: =O18+N18 -> 0
F19: ورودی | Q19: =O19+N19 -> 0
E20: تفاوت کارکنان ورودی به جایگزینی خروجی | G20: =G19-G18 -> 0 | H20: =H19-H18 -> 0 | I20: =I19-I18 -> 0 | J20: =J19-J18 -> 0 | K20: =K19-K18 -> 0 | L20: =L19-L18 -> 0 | M20: =M19-M18 -> 0 | N20: =N19-N18 -> 0 | ... Q20: =Q19-Q18 -> 0
E21: تعداد کارکنان غیر هیئت علمی جدید الاستخدام بر اساس مجوز سازمان امور اداری و استخدامی کشور / وزارت بهداشت درمان و آموزش پزشکی | N21: =H21 -> 0 | Q21: =N21 -> 0
E22: بخش ج -پیش بینی تعداد نيروي انساني به تفكيك نوع استخدام در انتهای سال 1404
E23: شرح | G23: رسمي | H23: پيماني | I23: ضريب k | J23: طرحی | K23: قرارداد كارمعين حرفه اي | L23: قرارداد كارمعين غير حرفه اي | M23: قانون کار | N23: جمع | O23: شرکتی | P23: سایر | Q23: جمع كل
E24: کارکنان هيئت علمي | N24: =M24+L24+K24+J24+I24+H24+G24 -> 0 | Q24: =P24+O24+N24 -> 0
E25: کارکنان غیر هيئت علمي | N25: =M25+L25+K25+J25+I25+H25+G25 -> 0 | Q25: =P25+O25+N25 -> 0
E26: جمع کل کارکنان | G26: =SUM(G24:G25) -> 0 | H26: =SUM(H24:H25) -> 0 | I26: =SUM(I24:I25) -> 0 | J26: =SUM(J24:J25) -> 0 | K26: =SUM(K24:K25) -> 0 | L26: =SUM(L24:L25) -> 0 | M26: =SUM(M24:M25) -> 0 | N26: =SUM(N24:N25) -> 0 | ... Q26: =SUM(Q24:Q25) -> 0
E29: مدیر بیمارستان | I29: رئیس بیمارستان | N29: مدیر توسعه سازمان و سرمایه انسانی دانشگاه
E30: نام و نام خانوادگی | I30: نام و نام خانوادگی | N30: نام و نام خانوادگی
E33: مدیر امور مالی دانشگاه | I33: مدیر برنامه ریزی منابع مالی ، بودجه و پایش عملکرد | M33: معاون توسعه مدیریت و منابع
E34: نام و نام خانوادگی | I34: نام و نام خانوادگی

Sheet شاخص
B3: ارم دانشگاه | F3: نام دانشگاه :
B4: مديريت برنامه ريزي منابع مالي، بودجه و پایش عملکرد
B5: تفاهم نامه عملياتي سال 1404 | F5: نام واحد :
B6: فرم شماره 6- اطلاعات آماری و شاخصها
B8: سال | C8: اطلاعات آماری
C9: تعداد تخت فعال | D9: تعداد تخت موزون | E9: ضریب اشغال تخت | F9: تعداد بیمار بستری | G9: تعداد بیمار سرپایی | H9: تعداد کادر پرستاری ( مشمولین قانون ارتقای بهره وری) | I9: تعداد کارکنان اداری و مالی | J9: تعداد کارکنان خدمات و نگهبانی
B10: عملکرد 1403
B11: پیش بینی 1404
B14: سال | C14: منابع عملکردی واحد | F14: شاخصهای مرتبط با درآمدو هزینه
C15: درآمد تعهدی( کار کرد) | D15: سایر منابع ( ردیف / هدفمندی | E15: جمع منابع | F15: سرانه درآمد به تخت موزون ( میلیون ریال ) | G15: سرانه هزینه نیروی انسانی درمانی به تخت موزون ( میلیون ریال ) | H15: سرانه هزینه نیروی انسانی غیر درمانی به تخت موزون ( میلیون ریال ) | I15: سرانه هزینه نیروی انسانی (درمانی وغیر درمانی ) به تخت موزون ( میلیون ریال ) | J15: سرانه سایر هزینه ها به تخت موزون ( میلیون ریال ) | K15: درصد کسورات بیمه تامین اجتماعی | L15: درصد کسورات بیمه سلامت | M15: درصد کسورات سایر بیمه ها | N15: سرانه کارانه پزشکان به درآمد اختصاصی | O15: سرانه کارانه پرستاران به تعرفه پرستاری | P15: سرانه نیروی انسانی پرستاری به تخت موزون | Q15: درصد نیروی شرکتی از کل نیروها
B16: عملکرد 1403
B17: تفاهم نامه 1404
B19: سال | C19: شاخصهای مرتبط با درآمدو هزینه
C20: سرانه هزینه حقوق و مزایای مستمر به کل کارکنان ( میلیون ریال ) | D20: سرانه سایر هزینه های پرسنلی به کل کارکنان ( میلیون ریال )
B21: عملکرد 1403
B22: تفاهم نامه 1404
B24: مدیر بیمارستان | G24: رئیس بیمارستان | M24: مدیر امور مالی دانشگاه
B25: نام و نام خانوادگی | G25: نام و نام خانوادگی | M25: نام و نام خانوادگی
B27: مدیر برنامه ریزی منابع مالی ، بودجه وپایش عملکرد | G27: معاون توسعه مدیریت و منابع دانشگاه
B28: نام و نام خانوادگی | G28: نام و نام خانوادگی

Sheet پیوست - چزئیات تراز 
C4: آرم دانشگاه | G4: عنوان دستگاه : دانشگاه علوم پزشكي وخدمات بهداشتي درماني ...
C5: مديريت برنامه ريزي منابع مالي، بودجه و پایش عملکرد
C6: تفاهم نامه عملياتي سال 1404 | G6: نام واحد : بیمارستان
C7: پیوست : جزئیات تراز ابتدای سال 1404
C9: تراز ابتدای سال 1404
C10: مانده نقد ابتدای سال | G10: مطالبات ابتدای سال | J10: جمع کل منابع منتقله از سال قبل | K10: تعهدات ابتدای سال 1404 | N10: تراز ابتدای سال 1404
C11: درآمد اختصاصی | D11: ردیف های متمرکز | E11: سایر منابع | F11: جمع | G11: سازمانهای بیمه گر | H11: ردیف های متمرکز | I11: جمع | K11: پرسنلی | L11: غیر پرسنلی | M11: جمع
F12: =E12+D12+C12 -> 0 | I12: =H12+G12 -> 0 | J12: =I12+F12 -> 0 | K12: =E25 -> 0 | L12: =I25 -> 0 | M12: =L12+K12 -> 0 | N12: =M12-J12 -> 0
C15: تعهدات منتقله از سال قبل
C16: پرسنلی | F16: غیر پرسنلی
C17: ردیف | D17: عنوان هزینه | E17: مبلغ | F17: ردیف | G17: عنوان هزینه | I17: مبلغ
C18: 1 | D18: اضافه کار | F18: 1 | G18: قرارداد
C19: 2 | D19: کارانه | F19: 2 | G19: انرژی
C20: 3 | D20: حقوق و مزایای نیروهای شرکتی | F20: 3 | G20: دارو ومکمل
C21: 4 | F21: 4 | G21: مواد مصرفی اداری و آزمایشگاهی
C22: 5 | F22: 5
C23: 6 | F23: 6
C24: 7 | F24: 7
C25: جمع پرسنلی | E25: =SUM(E18:E24) -> 0 | F25: جمع غیر پرسنلی | I25: =SUM(I18:I24) -> 0
C26: جمع کل تعهدات پرسنلی و غیر پرسنلی | G26: =E25+I25 -> 0
